BEGIN:VCALENDAR
PRODID:-//Microsoft Corporation//Outlook 12.0 MIMEDIR//EN
VERSION:2.0
CALSCALE:GREGORIAN
BEGIN:VEVENT
UID: 6b174ebe-f9a9-419b-af82-9074521e2b73
SUMMARY:Pidulik 7-käiguline õhtusöök "Mõeldes Naistele"
DTSTAMP:20260304T180000
DTSTART:20260304T180000
DTEND:20260305T200000
LOCATION:Vana-Vigala õppekoht
DESCRIPTION: <p>Järgmise nädala restoraniõhtud Vana-Vigala õppekohas on kohe käes!</p><p>04.03 – veel on mõned vabad kohad, broneeri kiiresti ja tule naudi mõnusat atmosfääri ning maitseelamusi.</p><p>05.03 on täielikult välja müüdud – suur aitäh huvi eest!</p><p>Märgi kalendrisse ka järgmised (selle õppeaasta viimased) restoraniõhtud: 08.04 ja 09.04</p><p>Broneerimine nendele kuupäevadele juba käib.</p><p><strong>Link: </strong>https://www.rako.edu.ee/et/sundmuste-kalender/pidulik-7-kaiguline-ohtusook-moeldes-naistele</p><p><strong>Hind: </strong>45</p>
STATUS:CONFIRMED
SEQUENCE:3
X-ALT-DESC;FMTTYPE=text/html:<p>Järgmise nädala restoraniõhtud Vana-Vigala õppekohas on kohe käes!</p><p>04.03 – veel on mõned vabad kohad, broneeri kiiresti ja tule naudi mõnusat atmosfääri ning maitseelamusi.</p><p>05.03 on täielikult välja müüdud – suur aitäh huvi eest!</p><p>Märgi kalendrisse ka järgmised (selle õppeaasta viimased) restoraniõhtud: 08.04 ja 09.04</p><p>Broneerimine nendele kuupäevadele juba käib.</p><p><strong>Link: </strong>https://www.rako.edu.ee/et/sundmuste-kalender/pidulik-7-kaiguline-ohtusook-moeldes-naistele</p><p><strong>Hind: </strong>45</p>
X-MICROSOFT-CDO-BUSYSTATUS:OOF
X-MICROSOFT-CDO-IMPORTANCE:1
X-MICROSOFT-DISALLOW-COUNTER:FALSE
X-MS-OLK-ALLOWEXTERNCHECK:TRUE
X-MS-OLK-CONFTYPE:0
X-MICROSOFT-CDO-ALLDAYEVENT:
X-MICROSOFT-MSNCALENDAR-ALLDAYEVENT:
END:VEVENT
END:VCALENDAR